BEGIN:VCALENDAR
VERSION:2.0
PRODID:Informação N.º 2022/3
X-WR-CALNAME:Informação N.º 2022/3
X-WR-TIMEZONE:Europe/Lisbon
X-PUBLISHED-TTL:P1W
BEGIN:VTIMEZONE
TZID:Europe/Lisbon
X-LIC-LOCATION:Europe/Lisbon
END:VTIMEZONE
BEGIN:VEVENT
UID:69e7375ff3017
DTSTART;VALUE=DATE:20220301
SEQUENCE:0
TRANSP:OPAQUE
DTEND;VALUE=DATE:20220302
SUMMARY:Informação N.º 2022/3
CLASS:PUBLIC
DESCRIPTION:Horário de funcionamento
X-MICROSOFT-CDO-ALLDAYEVENT:TRUE
DTSTAMP:20260421T083751Z
END:VEVENT
END:VCALENDAR