BEGIN:VCALENDAR
VERSION:2.0
PRODID:Informação N.º 2022/8
X-WR-CALNAME:Informação N.º 2022/8
X-WR-TIMEZONE:Europe/Lisbon
X-PUBLISHED-TTL:P1W
BEGIN:VTIMEZONE
TZID:Europe/Lisbon
X-LIC-LOCATION:Europe/Lisbon
END:VTIMEZONE
BEGIN:VEVENT
UID:69e7567b1a8ce
DTSTART;VALUE=DATE:20221101
SEQUENCE:0
TRANSP:OPAQUE
DTEND;VALUE=DATE:20221102
SUMMARY:Informação N.º 2022/8
CLASS:PUBLIC
DESCRIPTION:Disponibilização de transporte: Missa de finados a realizar n
 a igreja de São Saturnino.&nbsp\;
X-MICROSOFT-CDO-ALLDAYEVENT:TRUE
DTSTAMP:20260421T105035Z
END:VEVENT
END:VCALENDAR