BEGIN:VCALENDAR
VERSION:2.0
PRODID:DIA MUNDIAL DA CRIANÇA
X-WR-CALNAME:DIA MUNDIAL DA CRIANÇA
X-WR-TIMEZONE:Europe/Lisbon
X-PUBLISHED-TTL:P1W
BEGIN:VTIMEZONE
TZID:Europe/Lisbon
X-LIC-LOCATION:Europe/Lisbon
END:VTIMEZONE
BEGIN:VEVENT
UID:69e7373140580
DTSTART;VALUE=DATE:20220604
SEQUENCE:0
TRANSP:OPAQUE
DTEND;VALUE=DATE:20220605
SUMMARY:DIA MUNDIAL DA CRIANÇA
CLASS:PUBLIC
DESCRIPTION:Passeio
X-MICROSOFT-CDO-ALLDAYEVENT:TRUE
DTSTAMP:20260421T083705Z
END:VEVENT
END:VCALENDAR