BEGIN:VCALENDAR
VERSION:2.0
PRODID:VIAGEM A AVEIRO
X-WR-CALNAME:VIAGEM A AVEIRO
X-WR-TIMEZONE:Europe/Lisbon
X-PUBLISHED-TTL:P1W
BEGIN:VTIMEZONE
TZID:Europe/Lisbon
X-LIC-LOCATION:Europe/Lisbon
END:VTIMEZONE
BEGIN:VEVENT
UID:69e737aaa8080
DTSTART;VALUE=DATE:20220806
SEQUENCE:0
TRANSP:OPAQUE
DTEND;VALUE=DATE:20220807
SUMMARY:VIAGEM A AVEIRO
CLASS:PUBLIC
DESCRIPTION:2 DIAS - 1 NOITE
X-MICROSOFT-CDO-ALLDAYEVENT:TRUE
DTSTAMP:20260421T083906Z
END:VEVENT
END:VCALENDAR