BEGIN:VCALENDAR
VERSION:2.0
PRODID:Assembleia de Freguesia de São Saturnino - Edital 2022/01
X-WR-CALNAME:Assembleia de Freguesia de São Saturnino - Edital 2022/01
X-WR-TIMEZONE:Europe/Lisbon
X-PUBLISHED-TTL:P1W
BEGIN:VTIMEZONE
TZID:Europe/Lisbon
X-LIC-LOCATION:Europe/Lisbon
END:VTIMEZONE
BEGIN:VEVENT
UID:69e7367f5595d
DTSTART;VALUE=DATE:20220408
SEQUENCE:0
TRANSP:OPAQUE
DTEND;VALUE=DATE:20220409
SUMMARY:Assembleia de Freguesia de São Saturnino - Edital 2022/01
CLASS:PUBLIC
DESCRIPTION:Sessão ordinária de oito de abril de dois mil e vinte e dois.
 &nbsp\;
X-MICROSOFT-CDO-ALLDAYEVENT:TRUE
DTSTAMP:20260421T083407Z
END:VEVENT
END:VCALENDAR