BEGIN:VCALENDAR
VERSION:2.0
PRODID:AULAS DE ZUMBA
X-WR-CALNAME:AULAS DE ZUMBA
X-WR-TIMEZONE:Europe/Lisbon
X-PUBLISHED-TTL:P1W
BEGIN:VTIMEZONE
TZID:Europe/Lisbon
X-LIC-LOCATION:Europe/Lisbon
END:VTIMEZONE
BEGIN:VEVENT
UID:69e737b82c1c2
DTSTART;VALUE=DATE:20220511
SEQUENCE:0
TRANSP:OPAQUE
DTEND;VALUE=DATE:20220512
SUMMARY:AULAS DE ZUMBA
CLASS:PUBLIC
DESCRIPTION:Horário: 18H30 às 19H15 (Quarta-feira)\;\nParticipação é g
 ratuita.
X-MICROSOFT-CDO-ALLDAYEVENT:TRUE
DTSTAMP:20260421T083920Z
END:VEVENT
END:VCALENDAR