BEGIN:VCALENDAR
VERSION:2.0
PRODID:PEREGRINAÇÃO DOS SÍMBOLOS DAS JMJ: ARQUIDIOCESE DE ÉVORA
X-WR-CALNAME:PEREGRINAÇÃO DOS SÍMBOLOS DAS JMJ: ARQUIDIOCESE DE ÉVORA
X-WR-TIMEZONE:Europe/Lisbon
X-PUBLISHED-TTL:P1W
BEGIN:VTIMEZONE
TZID:Europe/Lisbon
X-LIC-LOCATION:Europe/Lisbon
END:VTIMEZONE
BEGIN:VEVENT
UID:69e736fd48a5f
DTSTART;VALUE=DATE:20220112
SEQUENCE:0
TRANSP:OPAQUE
DTEND;VALUE=DATE:20220113
SUMMARY:PEREGRINAÇÃO DOS SÍMBOLOS DAS JMJ: ARQUIDIOCESE DE ÉVORA
CLASS:PUBLIC
DESCRIPTION:Passagem dos símbolos pela paróquia de Vale de Maceiras
X-MICROSOFT-CDO-ALLDAYEVENT:TRUE
DTSTAMP:20260421T083613Z
END:VEVENT
END:VCALENDAR