BEGIN:VCALENDAR
VERSION:2.0
PRODID:DIA INTERNACIONAL DA MULHER ׀ PASSEIO
X-WR-CALNAME:DIA INTERNACIONAL DA MULHER ׀ PASSEIO
X-WR-TIMEZONE:Europe/Lisbon
X-PUBLISHED-TTL:P1W
BEGIN:VTIMEZONE
TZID:Europe/Lisbon
X-LIC-LOCATION:Europe/Lisbon
END:VTIMEZONE
BEGIN:VEVENT
UID:69e756c5b80e3
DTSTART;VALUE=DATE:20220313
SEQUENCE:0
TRANSP:OPAQUE
DTEND;VALUE=DATE:20220314
SUMMARY:DIA INTERNACIONAL DA MULHER ׀ PASSEIO
CLASS:PUBLIC
DESCRIPTION:PROGRAMA:\n09h:00m – Partida de Vale de Maceiras (JFSS e GDCV
 M)\n10h:30m – Visita ao Centro de Ciência do Café – Campo Maior\n12h
 :30m – Almoço – Restaurante O Faisão (Preço - 15€ por pessoa)\n14
 h:30m – Visita ao Museu Militar de Elvas\n17h:30m - Lanche no GDCVM\n\nI
 nscrições | Junta de Freguesia de Vale Maceiras\nTelefone: 245 635 260 |
  Telemóvel: 963 397 666\nAté 08 de março 2022
X-MICROSOFT-CDO-ALLDAYEVENT:TRUE
DTSTAMP:20260421T105149Z
END:VEVENT
END:VCALENDAR