BEGIN:VCALENDAR
VERSION:2.0
PRODID:LANÇAMENTO DE LIVRO LAIS
X-WR-CALNAME:LANÇAMENTO DE LIVRO LAIS
X-WR-TIMEZONE:Europe/Lisbon
X-PUBLISHED-TTL:P1W
BEGIN:VTIMEZONE
TZID:Europe/Lisbon
X-LIC-LOCATION:Europe/Lisbon
END:VTIMEZONE
BEGIN:VEVENT
UID:69e738375cd99
DTSTART;VALUE=DATE:20220714
SEQUENCE:0
TRANSP:OPAQUE
DTEND;VALUE=DATE:20220715
SUMMARY:LANÇAMENTO DE LIVRO LAIS
CLASS:PUBLIC
DESCRIPTION:Centro Cultural - Fronteira
X-MICROSOFT-CDO-ALLDAYEVENT:TRUE
DTSTAMP:20260421T084127Z
END:VEVENT
END:VCALENDAR