BEGIN:VCALENDAR
VERSION:2.0
PRODID:FESTAS NA ALDEIA
X-WR-CALNAME:FESTAS NA ALDEIA
X-WR-TIMEZONE:Europe/Lisbon
X-PUBLISHED-TTL:P1W
BEGIN:VTIMEZONE
TZID:Europe/Lisbon
X-LIC-LOCATION:Europe/Lisbon
END:VTIMEZONE
BEGIN:VEVENT
UID:69e737ff10ada
DTSTART;VALUE=DATE:20220715
SEQUENCE:0
TRANSP:OPAQUE
DTEND;VALUE=DATE:20220716
SUMMARY:FESTAS NA ALDEIA
CLASS:PUBLIC
DESCRIPTION:Festas em Honra de Nossa Senhora do Rosário e Nossa Senhora da
  Oliveira 
X-MICROSOFT-CDO-ALLDAYEVENT:TRUE
DTSTAMP:20260421T084031Z
END:VEVENT
END:VCALENDAR