BEGIN:VCALENDAR
VERSION:2.0
PRODID:Informação N.º 2022/5 
X-WR-CALNAME:Informação N.º 2022/5 
X-WR-TIMEZONE:Europe/Lisbon
X-PUBLISHED-TTL:P1W
BEGIN:VTIMEZONE
TZID:Europe/Lisbon
X-LIC-LOCATION:Europe/Lisbon
END:VTIMEZONE
BEGIN:VEVENT
UID:69e9db4091a46
DTSTART;VALUE=DATE:20220916
SEQUENCE:0
TRANSP:OPAQUE
DTEND;VALUE=DATE:20220917
SUMMARY:Informação N.º 2022/5 
CLASS:PUBLIC
DESCRIPTION:Termas da Sulfúrea
X-MICROSOFT-CDO-ALLDAYEVENT:TRUE
DTSTAMP:20260423T084136Z
END:VEVENT
END:VCALENDAR