BEGIN:VCALENDAR
VERSION:2.0
PRODID: Assembleia de Freguesia de São Saturnino - Edital 2022/3
X-WR-CALNAME: Assembleia de Freguesia de São Saturnino - Edital 2022/3
X-WR-TIMEZONE:Europe/Lisbon
X-PUBLISHED-TTL:P1W
BEGIN:VTIMEZONE
TZID:Europe/Lisbon
X-LIC-LOCATION:Europe/Lisbon
END:VTIMEZONE
BEGIN:VEVENT
UID:69e7380eea040
DTSTART;VALUE=DATE:20220920
SEQUENCE:0
TRANSP:OPAQUE
DTEND;VALUE=DATE:20220921
SUMMARY: Assembleia de Freguesia de São Saturnino - Edital 2022/3
CLASS:PUBLIC
DESCRIPTION:Reunião ordinária.&nbsp\;
X-MICROSOFT-CDO-ALLDAYEVENT:TRUE
DTSTAMP:20260421T084046Z
END:VEVENT
END:VCALENDAR