BEGIN:VCALENDAR
VERSION:2.0
PRODID:Informação N.º 2023/5
X-WR-CALNAME:Informação N.º 2023/5
X-WR-TIMEZONE:Europe/Lisbon
X-PUBLISHED-TTL:P1W
BEGIN:VTIMEZONE
TZID:Europe/Lisbon
X-LIC-LOCATION:Europe/Lisbon
END:VTIMEZONE
BEGIN:VEVENT
UID:69e73ae456b40
DTSTART;VALUE=DATE:20230928
SEQUENCE:0
TRANSP:OPAQUE
DTEND;VALUE=DATE:20230929
SUMMARY:Informação N.º 2023/5
CLASS:PUBLIC
DESCRIPTION:Termas da Sulfúrea. 
X-MICROSOFT-CDO-ALLDAYEVENT:TRUE
DTSTAMP:20260421T085252Z
END:VEVENT
END:VCALENDAR