BEGIN:VCALENDAR
VERSION:2.0
PRODID:Informação N.º 2022/7
X-WR-CALNAME:Informação N.º 2022/7
X-WR-TIMEZONE:Europe/Lisbon
X-PUBLISHED-TTL:P1W
BEGIN:VTIMEZONE
TZID:Europe/Lisbon
X-LIC-LOCATION:Europe/Lisbon
END:VTIMEZONE
BEGIN:VEVENT
UID:69e73931e913f
DTSTART;VALUE=DATE:20221028
SEQUENCE:0
TRANSP:OPAQUE
DTEND;VALUE=DATE:20221029
SUMMARY:Informação N.º 2022/7
CLASS:PUBLIC
DESCRIPTION:Cemitério de São Saturnino: Horário de funcionamento no âmb
 ito da celebração do Dia de Todos os Santos.&nbsp\;
X-MICROSOFT-CDO-ALLDAYEVENT:TRUE
DTSTAMP:20260421T084537Z
END:VEVENT
END:VCALENDAR