BEGIN:VCALENDAR
VERSION:2.0
PRODID:PROFILAXIA DA RAIVA E OUTRAS ZOONOSES | VACINAÇÃO ANTIRRÁBICA (AN
 EXO)
X-WR-CALNAME:PROFILAXIA DA RAIVA E OUTRAS ZOONOSES | VACINAÇÃO ANTIRRÁBI
 CA (ANEXO)
X-WR-TIMEZONE:Europe/Lisbon
X-PUBLISHED-TTL:P1W
BEGIN:VTIMEZONE
TZID:Europe/Lisbon
X-LIC-LOCATION:Europe/Lisbon
END:VTIMEZONE
BEGIN:VEVENT
UID:69e73af52ca2b
DTSTART;VALUE=DATE:20220629
SEQUENCE:0
TRANSP:OPAQUE
DTEND;VALUE=DATE:20220630
SUMMARY:PROFILAXIA DA RAIVA E OUTRAS ZOONOSES | VACINAÇÃO ANTIRRÁBICA (A
 NEXO)
CLASS:PUBLIC
DESCRIPTION:Calendário do serviço oficial.&nbsp\;
X-MICROSOFT-CDO-ALLDAYEVENT:TRUE
DTSTAMP:20260421T085309Z
END:VEVENT
END:VCALENDAR