BEGIN:VCALENDAR
VERSION:2.0
PRODID:Informação N.º 2022/2
X-WR-CALNAME:Informação N.º 2022/2
X-WR-TIMEZONE:Europe/Lisbon
X-PUBLISHED-TTL:P1W
BEGIN:VTIMEZONE
TZID:Europe/Lisbon
X-LIC-LOCATION:Europe/Lisbon
END:VTIMEZONE
BEGIN:VEVENT
UID:69e737a0012f1
DTSTART;VALUE=DATE:20220131
SEQUENCE:0
TRANSP:OPAQUE
DTEND;VALUE=DATE:20220201
SUMMARY:Informação N.º 2022/2
CLASS:PUBLIC
DESCRIPTION:Horário de funcionamento\n(Secretaria/PC Vale de Maceiras)
X-MICROSOFT-CDO-ALLDAYEVENT:TRUE
DTSTAMP:20260421T083856Z
END:VEVENT
END:VCALENDAR